BEGIN:VCALENDAR
VERSION:2.0
PRODID:-//Huckenhamer Stadl - ECPv6.9.0//NONSGML v1.0//EN
CALSCALE:GREGORIAN
METHOD:PUBLISH
X-ORIGINAL-URL:https://huckenhamer-stadl.de
X-WR-CALDESC:Veranstaltungen für Huckenhamer Stadl
REFRESH-INTERVAL;VALUE=DURATION:PT1H
X-Robots-Tag:noindex
X-PUBLISHED-TTL:PT1H
BEGIN:VTIMEZONE
TZID:Europe/Berlin
BEGIN:DAYLIGHT
TZOFFSETFROM:+0100
TZOFFSETTO:+0200
TZNAME:CEST
DTSTART:20260329T010000
END:DAYLIGHT
BEGIN:STANDARD
TZOFFSETFROM:+0200
TZOFFSETTO:+0100
TZNAME:CET
DTSTART:20261025T010000
END:STANDARD
END:VTIMEZONE
BEGIN:VEVENT
DTSTART;TZID=Europe/Berlin:20260212T190000
DTEND;TZID=Europe/Berlin:20260212T190000
DTSTAMP:20260424T174017
CREATED:20260106T103355Z
LAST-MODIFIED:20260211T072142Z
UID:26721-1770922800-1770922800@huckenhamer-stadl.de
SUMMARY:MEGA WEIBERROAS
DESCRIPTION:MEGA WEIBERROAS – Musketiere im Moulin Rouge! Wann: 12.02.2025 | Einlass ab 19:00 Uhr \nFeiert mit uns eine Nacht voller Glanz\, Glamour und feuriger Stimmung – im Stil des legendären Moulin Rouge! Freut Euch auf:Live-Musik von Hurricane & Friends\, Beats von DJane HotstuffAuftritte der Garde Bayerbach\, Inniger Garde\, Garde und Hofstaat des BSV Bad Birnbach \nReservierungen & Vorverkauf: Rezeption Vital CAMP BayerbachTel.: 08532-9278070 |  info@vitalcamping-bayerbach.de \nKartenvorverkauf ab sofort! Seid dabei\, wenn sich die Glitzerwelt des Moulin Rouge mit bayerischer Lebensfreude vereint – Denn do treibst olle Weiba zam!
URL:https://huckenhamer-stadl.de/event/mega-weiberroas-2/
LOCATION:Huckenhamer Stadl\, Huckenham 11\, Bayerbach\, Bayern\, 94137
CATEGORIES:Events
ATTACH;FMTTYPE=image/jpeg:https://huckenhamer-stadl.de/wp-content/uploads/2026/01/vcb_weiberroas_poststory_v02_ag_251120.jpg
END:VEVENT
BEGIN:VEVENT
DTSTART;TZID=Europe/Berlin:20260228T200000
DTEND;TZID=Europe/Berlin:20260228T200000
DTSTAMP:20260424T174017
CREATED:20251205T083746Z
LAST-MODIFIED:20260211T072045Z
UID:26660-1772308800-1772308800@huckenhamer-stadl.de
SUMMARY:Da Meier & Watschnbaam: „WANTED!“
DESCRIPTION:Da Meier & Watschnbaam präsentieren ihr neues Bühnenprogramm „WANTED!“ – eine bayerische Musik-Comedy voller Witz\, Pointen und satirischer Lebensbeobachtungen. Mit 13 Instrumenten\, kuriosen Geschichten aus dem Alltag und jeder Menge Humor entführen die vier Ausnahmetalente das Publikum auf eine unvergessliche\, musikalische Schlemmerreise. Ein Abend zum Lachen\, Staunen und Genießen – beste Unterhaltung garantiert!
URL:https://huckenhamer-stadl.de/event/da-meier-watschnbaam-wanted/
LOCATION:Huckenhamer Stadl\, Huckenham 11\, Bayerbach\, Bayern\, 94137
CATEGORIES:Events
ATTACH;FMTTYPE=image/jpeg:https://huckenhamer-stadl.de/wp-content/uploads/2025/12/vcb_dameier_a3_v02_cc_251025_96dpi.jpg
END:VEVENT
END:VCALENDAR