BEGIN:VCALENDAR
VERSION:2.0
PRODID:-//Huckenhamer Stadl - ECPv6.9.0//NONSGML v1.0//EN
CALSCALE:GREGORIAN
METHOD:PUBLISH
X-ORIGINAL-URL:https://huckenhamer-stadl.de
X-WR-CALDESC:Veranstaltungen für Huckenhamer Stadl
REFRESH-INTERVAL;VALUE=DURATION:PT1H
X-Robots-Tag:noindex
X-PUBLISHED-TTL:PT1H
BEGIN:VTIMEZONE
TZID:Europe/Berlin
BEGIN:DAYLIGHT
TZOFFSETFROM:+0100
TZOFFSETTO:+0200
TZNAME:CEST
DTSTART:20250330T010000
END:DAYLIGHT
BEGIN:STANDARD
TZOFFSETFROM:+0200
TZOFFSETTO:+0100
TZNAME:CET
DTSTART:20251026T010000
END:STANDARD
BEGIN:DAYLIGHT
TZOFFSETFROM:+0100
TZOFFSETTO:+0200
TZNAME:CEST
DTSTART:20260329T010000
END:DAYLIGHT
BEGIN:STANDARD
TZOFFSETFROM:+0200
TZOFFSETTO:+0100
TZNAME:CET
DTSTART:20261025T010000
END:STANDARD
END:VTIMEZONE
BEGIN:VEVENT
DTSTART;VALUE=DATE:20251222
DTEND;VALUE=DATE:20260106
DTSTAMP:20260424T190350
CREATED:20250320T112226Z
LAST-MODIFIED:20250320T112226Z
UID:26509-1766361600-1767657599@huckenhamer-stadl.de
SUMMARY:WEIHNACHTEN & SILVESTER IM CAMP
DESCRIPTION:BESINNLICHE MOMENTE & FESTLICHER JAHRESWECHSEL \nVerbringt die Weihnachtszeit und den Jahreswechsel in gemütlicher Atmosphäre und lasst das Jahr bei uns entspannt ausklingen. Unser festliches Programm bietet eine perfekte Mischung aus Besinnlichkeit\, Entspannung und unvergesslichen Erlebnissen. Beim gemütlichen Weihnachtsbasteln können die Kinder  kreativ werden\, während die Weihnachtsandacht mit stimmungsvoller Musik und duftendem Glühwein für besinnliche Momente sorgt. Die Rauhnacht-Wanderung entführt euch in die mystische Welt alter Traditionen. \nFür Erholung und Wohlbefinden sorgt unsere lange Saunanacht und Peelings in der Sauna\, in der ihr in der wohligen Wärme der Saunalandschaft abschalten könnt. \nZum Jahreswechsel erwarten euch besondere Highlights: Bei der Fackelwanderung mit Stockbrotgrillen genießen wir die winterliche Stimmung\, bevor eine beeindruckende Feuershow für Staunen sorgt. Den krönenden Abschluss bildet unser festlicher Silvesterball\, bei dem ihr mit Musik\, Tanz und bester Laune ins neue Jahr feiert. \nErholt euch bei uns\, genießt die besinnliche Weihnachtszeit und startet entspannt und voller Freude ins neue Jahr. \nHier findet ihr das gesamte Programm.  \nJetzt Platz sichern – wir freuen uns auf Euch!
URL:https://huckenhamer-stadl.de/event/weihnachten-silvester-im-camp/
LOCATION:Bayern
CATEGORIES:Events
ATTACH;FMTTYPE=image/jpeg:https://huckenhamer-stadl.de/wp-content/uploads/2025/03/vcb_weihnachten-silvester_termine_1080x1920px_v01_ld_250207.jpg
END:VEVENT
BEGIN:VEVENT
DTSTART;TZID=Europe/Berlin:20260103T180000
DTEND;TZID=Europe/Berlin:20260103T233000
DTSTAMP:20260424T190350
CREATED:20250320T094443Z
LAST-MODIFIED:20250320T102055Z
UID:26488-1767463200-1767483000@huckenhamer-stadl.de
SUMMARY:RAUHNACHT-PARTY
DESCRIPTION:Am Samstag\, den 03. Januar\, feiern wir im Huckenhamer Stadl ein ganz besonderes traditionelles Event – die Rauhnacht-Party! \nDie Veranstaltung beginnt um 18 Uhr mit fetziger Live-Musik von den Black Eagles\, die für eine ausgelassene Stimmung sorgen werden. Ab 19 Uhr besuchen uns die Rottaler Habergoaß\, Hexn und Rauwuggal vom Brauchtumsverein Bayerbach e.V.\, um uns mit traditionellen Bräuchen und spannenden Darbietungen in die mystische Rauhnacht einzuführen. \nFür das leibliche Wohl ist bestens gesorgt: In unserer Stadl-Kuchl gibt es köstliche Spezialitäten\, und an der Outdoor-Bar warten Glühwein und Cocktails auf Euch. \nVerpasst nicht dieses einmalige\, traditionelle Event und feiert mit uns in die Rauhnacht!
URL:https://huckenhamer-stadl.de/event/rauhnacht-party/
LOCATION:Bayern
CATEGORIES:Events
ATTACH;FMTTYPE=image/jpeg:https://huckenhamer-stadl.de/wp-content/uploads/2025/03/vcb_rauhnacht26_a3_v03_ag_250212_72dpi.jpg
END:VEVENT
BEGIN:VEVENT
DTSTART;TZID=Europe/Berlin:20260124T200000
DTEND;TZID=Europe/Berlin:20260124T230000
DTSTAMP:20260424T190350
CREATED:20251205T083542Z
LAST-MODIFIED:20260113T075407Z
UID:26657-1769284800-1769295600@huckenhamer-stadl.de
SUMMARY:Schleudergang
DESCRIPTION:Das Trio Schleudergang präsentiert sein neues Programm „staub- und fusselfrei“ mit satirischen\, zweideutigen Wirthausliedern und Couplets – frisch inszeniert und voller Überraschungen. Freuen Sie sich auf liebgewonnene Charaktere wie Roland „Bämmal“ und Oberlehrer Raimund\, neue Protagonisten\, musikalische Highlights und jede Menge bayerischen Humor\, der garantiert die Lachmuskeln strapaziert. Ein kurzweiliges\, kunterbuntes Programm für alle\, die deftige Unterhaltung und hinterfotzige Pointen lieben.
URL:https://huckenhamer-stadl.de/event/schleudergang-kabarett/
LOCATION:Huckenhamer Stadl\, Huckenham 11\, Bayerbach\, Bayern\, 94137
CATEGORIES:Events
ATTACH;FMTTYPE=image/jpeg:https://huckenhamer-stadl.de/wp-content/uploads/2025/12/vcb_schleudergang_a3_v01_cc_251023_96dpi.jpg
END:VEVENT
END:VCALENDAR