BEGIN:VCALENDAR
VERSION:2.0
PRODID:-//Huckenhamer Stadl - ECPv6.9.0//NONSGML v1.0//EN
CALSCALE:GREGORIAN
METHOD:PUBLISH
X-WR-CALNAME:Huckenhamer Stadl
X-ORIGINAL-URL:https://huckenhamer-stadl.de
X-WR-CALDESC:Veranstaltungen für Huckenhamer Stadl
REFRESH-INTERVAL;VALUE=DURATION:PT1H
X-Robots-Tag:noindex
X-PUBLISHED-TTL:PT1H
BEGIN:VTIMEZONE
TZID:Europe/Berlin
BEGIN:DAYLIGHT
TZOFFSETFROM:+0100
TZOFFSETTO:+0200
TZNAME:CEST
DTSTART:20260329T010000
END:DAYLIGHT
BEGIN:STANDARD
TZOFFSETFROM:+0200
TZOFFSETTO:+0100
TZNAME:CET
DTSTART:20261025T010000
END:STANDARD
END:VTIMEZONE
BEGIN:VEVENT
DTSTART;TZID=Europe/Berlin:20260805T180000
DTEND;TZID=Europe/Berlin:20260805T210000
DTSTAMP:20260424T144404
CREATED:20251209T093600Z
LAST-MODIFIED:20251209T093611Z
UID:26685-1785952800-1785963600@huckenhamer-stadl.de
SUMMARY:Livemusik Sessions - Doris & Andy
DESCRIPTION:Livemusik im Huckenhamer Stadl \nJeden Mittwoch heißt es im Huckenhamer Stadl: Akustik-Musik live erleben! \nFreut Euch auf entspannte Sommerabende mit toller Live-Musik\, kühlen Getränken und einer einzigartigen Biergarten-Atmosphäre. Ab 18 Uhr starten unsere Musiker*innen und verzaubern Euch mit ihrem Sommer-Sound  \nWann: Jeden Mittwoch\, 18:00 – 21:00 Uhr \nEintritt: Natürlich frei! \nFreut Euch auf eine unvergessliche Stimmung um den Tag entspannt ausklingen zu lassen. Gemeinsam wollen wir die ersten langen Abende genießen und das Leben feiern! 
URL:https://huckenhamer-stadl.de/event/livemusik-sessions-doris-andy-3/
CATEGORIES:Events
ATTACH;FMTTYPE=image/jpeg:https://huckenhamer-stadl.de/wp-content/uploads/2025/12/vcb_plakat_livemusik_a3_v07_cc_251209.jpg
END:VEVENT
BEGIN:VEVENT
DTSTART;TZID=Europe/Berlin:20260812T180000
DTEND;TZID=Europe/Berlin:20260812T210000
DTSTAMP:20260424T144404
CREATED:20251209T092849Z
LAST-MODIFIED:20251209T092856Z
UID:26677-1786557600-1786568400@huckenhamer-stadl.de
SUMMARY:Livemusik Sessions - Taste It!
DESCRIPTION:Livemusik im Huckenhamer Stadl \nJeden Mittwoch heißt es im Huckenhamer Stadl: Akustik-Musik live erleben! \nFreut Euch auf entspannte Sommerabende mit toller Live-Musik\, kühlen Getränken und einer einzigartigen Biergarten-Atmosphäre. Ab 18 Uhr starten unsere Musiker*innen und verzaubern Euch mit ihrem Sommer-Sound \nWann: Jeden Mittwoch\, 18:00 – 21:00 Uhr \nEintritt: Natürlich frei! \nFreut Euch auf eine unvergessliche Stimmung um den Tag entspannt ausklingen zu lassen. Gemeinsam wollen wir die ersten langen Abende genießen und das Leben feiern!
URL:https://huckenhamer-stadl.de/event/livemusik-sessions-taste-it-4/
CATEGORIES:Events
ATTACH;FMTTYPE=image/jpeg:https://huckenhamer-stadl.de/wp-content/uploads/2025/12/vcb_plakat_livemusik_a3_v07_cc_251209.jpg
END:VEVENT
BEGIN:VEVENT
DTSTART;TZID=Europe/Berlin:20260819T180000
DTEND;TZID=Europe/Berlin:20260819T210000
DTSTAMP:20260424T144404
CREATED:20251209T095345Z
LAST-MODIFIED:20251209T095345Z
UID:26707-1787162400-1787173200@huckenhamer-stadl.de
SUMMARY:Livemusik Sessions - Klangjuwel
DESCRIPTION:Livemusik im Huckenhamer Stadl \nJeden Mittwoch heißt es im Huckenhamer Stadl: Akustik-Musik live erleben! \nFreut Euch auf entspannte Sommerabende mit toller Live-Musik\, kühlen Getränken und einer einzigartigen Biergarten-Atmosphäre. Ab 18 Uhr starten unsere Musiker*innen und verzaubern Euch mit ihrem Sommer-Sound  \nWann: Jeden Mittwoch\, 18:00 – 21:00 Uhr \nEintritt: Natürlich frei! \nFreut Euch auf eine unvergessliche Stimmung um den Tag entspannt ausklingen zu lassen. Gemeinsam wollen wir die ersten langen Abende genießen und das Leben feiern! 
URL:https://huckenhamer-stadl.de/event/livemusik-sessions-klangjuwel-4/
CATEGORIES:Events
ATTACH;FMTTYPE=image/jpeg:https://huckenhamer-stadl.de/wp-content/uploads/2025/12/vcb_plakat_livemusik_a3_v07_cc_251209.jpg
END:VEVENT
BEGIN:VEVENT
DTSTART;TZID=Europe/Berlin:20260826T180000
DTEND;TZID=Europe/Berlin:20260826T210000
DTSTAMP:20260424T144404
CREATED:20251209T094719Z
LAST-MODIFIED:20251209T094719Z
UID:26697-1787767200-1787778000@huckenhamer-stadl.de
SUMMARY:Livemusik Sessions - Black Eagles
DESCRIPTION:Livemusik im Huckenhamer Stadl \nJeden Mittwoch heißt es im Huckenhamer Stadl: Akustik-Musik live erleben! \nFreut Euch auf entspannte Sommerabende mit toller Live-Musik\, kühlen Getränken und einer einzigartigen Biergarten-Atmosphäre. Ab 18 Uhr starten unsere Musiker*innen und verzaubern Euch mit ihrem Sommer-Sound  \nWann: Jeden Mittwoch\, 18:00 – 21:00 Uhr \nEintritt: Natürlich frei! \nFreut Euch auf eine unvergessliche Stimmung um den Tag entspannt ausklingen zu lassen. Gemeinsam wollen wir die ersten langen Abende genießen und das Leben feiern! 
URL:https://huckenhamer-stadl.de/event/livemusik-sessions-black-eagles-3/
CATEGORIES:Events
ATTACH;FMTTYPE=image/jpeg:https://huckenhamer-stadl.de/wp-content/uploads/2025/12/vcb_plakat_livemusik_a3_v07_cc_251209.jpg
END:VEVENT
BEGIN:VEVENT
DTSTART;TZID=Europe/Berlin:20260902T180000
DTEND;TZID=Europe/Berlin:20260902T210000
DTSTAMP:20260424T144404
CREATED:20251209T093453Z
LAST-MODIFIED:20251209T093453Z
UID:26683-1788372000-1788382800@huckenhamer-stadl.de
SUMMARY:Livemusik Sessions - Doris & Andy
DESCRIPTION:Livemusik im Huckenhamer Stadl \nJeden Mittwoch heißt es im Huckenhamer Stadl: Akustik-Musik live erleben! \nFreut Euch auf entspannte Sommerabende mit toller Live-Musik\, kühlen Getränken und einer einzigartigen Biergarten-Atmosphäre. Ab 18 Uhr starten unsere Musiker*innen und verzaubern Euch mit ihrem Sommer-Sound  \nWann: Jeden Mittwoch\, 18:00 – 21:00 Uhr \nEintritt: Natürlich frei! \nFreut Euch auf eine unvergessliche Stimmung um den Tag entspannt ausklingen zu lassen. Gemeinsam wollen wir die ersten langen Abende genießen und das Leben feiern! 
URL:https://huckenhamer-stadl.de/event/livemusik-sessions-doris-andy-2/
CATEGORIES:Events
ATTACH;FMTTYPE=image/jpeg:https://huckenhamer-stadl.de/wp-content/uploads/2025/12/vcb_plakat_livemusik_a3_v07_cc_251209.jpg
END:VEVENT
BEGIN:VEVENT
DTSTART;TZID=Europe/Berlin:20260909T180000
DTEND;TZID=Europe/Berlin:20260909T210000
DTSTAMP:20260424T144404
CREATED:20251209T092943Z
LAST-MODIFIED:20251209T092943Z
UID:26679-1788976800-1788987600@huckenhamer-stadl.de
SUMMARY:Livemusik Sessions - Taste It!
DESCRIPTION:Livemusik im Huckenhamer Stadl \nJeden Mittwoch heißt es im Huckenhamer Stadl: Akustik-Musik live erleben! \nFreut Euch auf entspannte Sommerabende mit toller Live-Musik\, kühlen Getränken und einer einzigartigen Biergarten-Atmosphäre. Ab 18 Uhr starten unsere Musiker*innen und verzaubern Euch mit ihrem Sommer-Sound  \nWann: Jeden Mittwoch\, 18:00 – 21:00 Uhr \nEintritt: Natürlich frei! \nFreut Euch auf eine unvergessliche Stimmung um den Tag entspannt ausklingen zu lassen. Gemeinsam wollen wir die ersten langen Abende genießen und das Leben feiern! 
URL:https://huckenhamer-stadl.de/event/livemusik-sessions-taste-it-5/
CATEGORIES:Events
ATTACH;FMTTYPE=image/jpeg:https://huckenhamer-stadl.de/wp-content/uploads/2025/12/vcb_plakat_livemusik_a3_v07_cc_251209.jpg
END:VEVENT
BEGIN:VEVENT
DTSTART;TZID=Europe/Berlin:20260916T180000
DTEND;TZID=Europe/Berlin:20260916T210000
DTSTAMP:20260424T144404
CREATED:20251209T094823Z
LAST-MODIFIED:20251209T094823Z
UID:26699-1789581600-1789592400@huckenhamer-stadl.de
SUMMARY:Livemusik Sessions - Black Eagles
DESCRIPTION:Livemusik im Huckenhamer Stadl \nJeden Mittwoch heißt es im Huckenhamer Stadl: Akustik-Musik live erleben! \nFreut Euch auf entspannte Sommerabende mit toller Live-Musik\, kühlen Getränken und einer einzigartigen Biergarten-Atmosphäre. Ab 18 Uhr starten unsere Musiker*innen und verzaubern Euch mit ihrem Sommer-Sound  \nWann: Jeden Mittwoch\, 18:00 – 21:00 Uhr \nEintritt: Natürlich frei! \nFreut Euch auf eine unvergessliche Stimmung um den Tag entspannt ausklingen zu lassen. Gemeinsam wollen wir die ersten langen Abende genießen und das Leben feiern! 
URL:https://huckenhamer-stadl.de/event/livemusik-sessions-black-eagles-4/
CATEGORIES:Events
ATTACH;FMTTYPE=image/jpeg:https://huckenhamer-stadl.de/wp-content/uploads/2025/12/vcb_plakat_livemusik_a3_v07_cc_251209.jpg
END:VEVENT
BEGIN:VEVENT
DTSTART;TZID=Europe/Berlin:20260923T180000
DTEND;TZID=Europe/Berlin:20260923T210000
DTSTAMP:20260424T144404
CREATED:20251209T095615Z
LAST-MODIFIED:20251209T095615Z
UID:26713-1790186400-1790197200@huckenhamer-stadl.de
SUMMARY:Livemusik Sessions - Colorados
DESCRIPTION:Livemusik im Huckenhamer Stadl \nJeden Mittwoch heißt es im Huckenhamer Stadl: Akustik-Musik live erleben! \nFreut Euch auf entspannte Sommerabende mit toller Live-Musik\, kühlen Getränken und einer einzigartigen Biergarten-Atmosphäre. Ab 18 Uhr starten unsere Musiker*innen und verzaubern Euch mit ihrem Sommer-Sound  \nWann: Jeden Mittwoch\, 18:00 – 21:00 Uhr \nEintritt: Natürlich frei! \nFreut Euch auf eine unvergessliche Stimmung um den Tag entspannt ausklingen zu lassen. Gemeinsam wollen wir die ersten langen Abende genießen und das Leben feiern! 
URL:https://huckenhamer-stadl.de/event/livemusik-sessions-colorados-2/
CATEGORIES:Events
ATTACH;FMTTYPE=image/jpeg:https://huckenhamer-stadl.de/wp-content/uploads/2025/12/vcb_plakat_livemusik_a3_v07_cc_251209.jpg
END:VEVENT
BEGIN:VEVENT
DTSTART;TZID=Europe/Berlin:20260930T180000
DTEND;TZID=Europe/Berlin:20260930T210000
DTSTAMP:20260424T144404
CREATED:20251209T095442Z
LAST-MODIFIED:20251209T095448Z
UID:26709-1790791200-1790802000@huckenhamer-stadl.de
SUMMARY:Livemusik Sessions - Klangjuwel
DESCRIPTION:Livemusik im Huckenhamer Stadl \nJeden Mittwoch heißt es im Huckenhamer Stadl: Akustik-Musik live erleben! \nFreut Euch auf entspannte Sommerabende mit toller Live-Musik\, kühlen Getränken und einer einzigartigen Biergarten-Atmosphäre. Ab 18 Uhr starten unsere Musiker*innen und verzaubern Euch mit ihrem Sommer-Sound  \nWann: Jeden Mittwoch\, 18:00 – 21:00 Uhr \nEintritt: Natürlich frei! \nFreut Euch auf eine unvergessliche Stimmung um den Tag entspannt ausklingen zu lassen. Gemeinsam wollen wir die ersten langen Abende genießen und das Leben feiern! 
URL:https://huckenhamer-stadl.de/event/livemusik-sessions-klangjuwel-5/
CATEGORIES:Events
ATTACH;FMTTYPE=image/jpeg:https://huckenhamer-stadl.de/wp-content/uploads/2025/12/vcb_plakat_livemusik_a3_v07_cc_251209.jpg
END:VEVENT
BEGIN:VEVENT
DTSTART;TZID=Europe/Berlin:20261007T180000
DTEND;TZID=Europe/Berlin:20261007T210000
DTSTAMP:20260424T144404
CREATED:20251209T093659Z
LAST-MODIFIED:20251209T093702Z
UID:26687-1791396000-1791406800@huckenhamer-stadl.de
SUMMARY:Livemusik Sessions - Doris & Andy
DESCRIPTION:Livemusik im Huckenhamer Stadl \nJeden Mittwoch heißt es im Huckenhamer Stadl: Akustik-Musik live erleben! \nFreut Euch auf entspannte Sommerabende mit toller Live-Musik\, kühlen Getränken und einer einzigartigen Biergarten-Atmosphäre. Ab 18 Uhr starten unsere Musiker*innen und verzaubern Euch mit ihrem Sommer-Sound  \nWann: Jeden Mittwoch\, 18:00 – 21:00 Uhr \nEintritt: Natürlich frei! \nFreut Euch auf eine unvergessliche Stimmung um den Tag entspannt ausklingen zu lassen. Gemeinsam wollen wir die ersten langen Abende genießen und das Leben feiern! 
URL:https://huckenhamer-stadl.de/event/livemusik-sessions-doris-andy-4/
CATEGORIES:Events
ATTACH;FMTTYPE=image/jpeg:https://huckenhamer-stadl.de/wp-content/uploads/2025/12/vcb_plakat_livemusik_a3_v07_cc_251209.jpg
END:VEVENT
END:VCALENDAR