BEGIN:VCALENDAR
VERSION:2.0
PRODID:-//Huckenhamer Stadl - ECPv6.9.0//NONSGML v1.0//EN
CALSCALE:GREGORIAN
METHOD:PUBLISH
X-WR-CALNAME:Huckenhamer Stadl
X-ORIGINAL-URL:https://huckenhamer-stadl.de
X-WR-CALDESC:Veranstaltungen für Huckenhamer Stadl
REFRESH-INTERVAL;VALUE=DURATION:PT1H
X-Robots-Tag:noindex
X-PUBLISHED-TTL:PT1H
BEGIN:VTIMEZONE
TZID:Europe/Berlin
BEGIN:DAYLIGHT
TZOFFSETFROM:+0100
TZOFFSETTO:+0200
TZNAME:CEST
DTSTART:20260329T010000
END:DAYLIGHT
BEGIN:STANDARD
TZOFFSETFROM:+0200
TZOFFSETTO:+0100
TZNAME:CET
DTSTART:20261025T010000
END:STANDARD
END:VTIMEZONE
BEGIN:VEVENT
DTSTART;TZID=Europe/Berlin:20260124T200000
DTEND;TZID=Europe/Berlin:20260124T230000
DTSTAMP:20260424T201922
CREATED:20251205T083542Z
LAST-MODIFIED:20260113T075407Z
UID:26657-1769284800-1769295600@huckenhamer-stadl.de
SUMMARY:Schleudergang
DESCRIPTION:Das Trio Schleudergang präsentiert sein neues Programm „staub- und fusselfrei“ mit satirischen\, zweideutigen Wirthausliedern und Couplets – frisch inszeniert und voller Überraschungen. Freuen Sie sich auf liebgewonnene Charaktere wie Roland „Bämmal“ und Oberlehrer Raimund\, neue Protagonisten\, musikalische Highlights und jede Menge bayerischen Humor\, der garantiert die Lachmuskeln strapaziert. Ein kurzweiliges\, kunterbuntes Programm für alle\, die deftige Unterhaltung und hinterfotzige Pointen lieben.
URL:https://huckenhamer-stadl.de/event/schleudergang-kabarett/
LOCATION:Huckenhamer Stadl\, Huckenham 11\, Bayerbach\, Bayern\, 94137
CATEGORIES:Events
ATTACH;FMTTYPE=image/jpeg:https://huckenhamer-stadl.de/wp-content/uploads/2025/12/vcb_schleudergang_a3_v01_cc_251023_96dpi.jpg
END:VEVENT
END:VCALENDAR